BEGIN:VCALENDAR
VERSION:2.0
METHOD:PUBLISH
PRODID:-//Tendenci - The Open Source AMS for Associations//Tendenci Codeba
 se MIMEDIR//EN
BEGIN:VEVENT
DESCRIPTION:--- This iCal file does *NOT* confirm registration.\nEvent det
 ails subject to change. ---\nhttps://www.rialliance.org/events/457/\n\nEve
 nt Title: Launch a Profitable Newsletter for Your Small Business\nStart Da
 te / Time: Mar 19, 2026 13:00 PM US/Eastern\nLocation: \nPresented by SCOR
 E\n \nIn this webinar, you&rsquo\;ll learn how to generate revenue by laun
 ching a newsletter program and what you need in place before you launch. W
 e&rsquo\;ll walk you through how to get started, from building an audience
 , creating engaging content and avoiding common mistakes. You&rsquo\;ll al
 so learn about monetization options and how to track performance to improv
 e over time.\n \nWhat You&rsquo\;ll Learn:\n \n\nHow to quickly set up and
  launch a newsletter without overcomplicating the process\nWhat to put in 
 place before launching, including how to start building your email list\nC
 ontent strategies that get opened, clicked, and read\nSales strategies tha
 t turn subscribers into paying customers\nHow newsletters actually make mo
 ney and what to expect in the early stages\nThe key metrics to track so yo
 u know what&rsquo\;s working\nCommon mistakes that prevent newsletters fro
 m generating revenue\n\n \nRegister Here\n\n--- This iCal file does *NOT* 
 confirm registration.Event details subject to change. ---\n\n--- By Tenden
 ci - The Open Source AMS for Associations ---\n
UID:uid457@rialliance.org
SUMMARY:Launch a Profitable Newsletter for Your Small Business
DTSTART:20260319T170000Z
DTEND:20260319T180000Z
CLASS:PUBLIC
PRIORITY:5
DTSTAMP:20260421T062840Z
TRANSP:OPAQUE
SEQUENCE:0
X-ALT-DESC;FMTTYPE=text/html:<div>--- This iCal file does *NOT* confirm re
 gistration.Event details subject to change. ---</div><h1>Event Title: Laun
 ch a Profitable Newsletter for Your Small Business</h1><div>https://www.ri
 alliance.org/events/457/</div><br /><div>When: Mar 19, 2026 13:00 PM US/Ea
 stern</div><br /><div><p><em>Presented by SCORE</em></p> <p>&nbsp\;</p> <p
  dir="ltr">In this webinar, you&rsquo\;ll learn how to generate revenue by
  launching a newsletter program and what you need in place before you laun
 ch. We&rsquo\;ll walk you through how to get started, from building an aud
 ience, creating engaging content and avoiding common mistakes. You&rsquo\;
 ll also learn about monetization options and how to track performance to i
 mprove over time.</p> <p dir="ltr">&nbsp\;</p> <p dir="ltr">What You&rsquo
 \;ll Learn:</p> <p>&nbsp\;</p> <ul> <li>How to quickly set up and launch a
  newsletter without overcomplicating the process</li> <li>What to put in p
 lace before launching, including how to start building your email list</li
 > <li>Content strategies that get opened, clicked, and read</li> <li>Sales
  strategies that turn subscribers into paying customers</li> <li>How newsl
 etters actually make money and what to expect in the early stages</li> <li
 >The key metrics to track so you know what&rsquo\;s working</li> <li>Commo
 n mistakes that prevent newsletters from generating revenue</li> </ul> <p>
 &nbsp\;</p> <p style="text-align: center\;"><a class="btn btn-primary" hre
 f="https://app.webinar.net/32A1LgaKGV0?mcc=monthlynews">Register Here</a><
 /p></div><div>--- This iCal file does *NOT* confirm registration.Event det
 ails subject to change. ---</div><div>--- Tendenci&reg\; Software by <a hr
 ef="https://www.tendenci.com">tendenci.com</a> - The Open Source AMS for A
 ssociations ---</div>
BEGIN:VALARM
TRIGGER:-PT30M
ACTION:DISPLAY
DESCRIPTION:Reminder
END:VALARM
END:VEVENT
END:VCALENDAR
