BEGIN:VCALENDAR
VERSION:2.0
METHOD:PUBLISH
PRODID:-//Tendenci - The Open Source AMS for Associations//Tendenci Codeba
 se MIMEDIR//EN
BEGIN:VEVENT
DESCRIPTION:--- This iCal file does *NOT* confirm registration.\nEvent det
 ails subject to change. ---\nhttps://www.rialliance.org/events/458/\n\nEve
 nt Title: How to Start and Run a Franchise Business That Works for You\nSt
 art Date / Time: Mar 24, 2026 13:00 PM US/Eastern\nLocation: \nPresented b
 y SCORE\n \n \nJoin FranNet CEO Jania Bailey for an exclusive webinar that
  brings clarity to the franchising landscape. You will learn how to determ
 ine whether franchising is right for you, clarify your personal motivation
 s, and explore a wide range of franchise models you may not have considere
 d. From fitness studios to senior care to boutique concepts, you will see 
 how to match opportunities to your skills, income goals and desired lifest
 yle.\n \nKey Takeaways\n\nUnderstand how franchising works and what drives
  success\nClarify your personal and professional goals\nEvaluate your skil
 ls, resources and readiness for ownership\nExplore franchise opportunities
  beyond fast food\nIdentify franchise models that align with your goals an
 d lifestyle\n\n \nRegister Here\n\n--- This iCal file does *NOT* confirm r
 egistration.Event details subject to change. ---\n\n--- By Tendenci - The 
 Open Source AMS for Associations ---\n
UID:uid458@rialliance.org
SUMMARY:How to Start and Run a Franchise Business That Works for You
DTSTART:20260324T170000Z
DTEND:20260324T180000Z
CLASS:PUBLIC
PRIORITY:5
DTSTAMP:20260421T090038Z
TRANSP:OPAQUE
SEQUENCE:0
X-ALT-DESC;FMTTYPE=text/html:<div>--- This iCal file does *NOT* confirm re
 gistration.Event details subject to change. ---</div><h1>Event Title: How 
 to Start and Run a Franchise Business That Works for You</h1><div>https://
 www.rialliance.org/events/458/</div><br /><div>When: Mar 24, 2026 13:00 PM
  US/Eastern</div><br /><div><p><em>Presented by SCORE</em></p> <p>&nbsp\;<
 /p> <p>&nbsp\;</p> <p dir="ltr">Join FranNet CEO Jania Bailey for an exclu
 sive webinar that brings clarity to the franchising landscape. You will le
 arn how to determine whether franchising is right for you, clarify your pe
 rsonal motivations, and explore a wide range of franchise models you may n
 ot have considered. From fitness studios to senior care to boutique concep
 ts, you will see how to match opportunities to your skills, income goals a
 nd desired lifestyle.</p> <p dir="ltr">&nbsp\;</p> <p dir="ltr">Key Takeaw
 ays</p> <ul> <li dir="ltr" data-list-item-id="ecb0597f9133db1e4cb6ae75f27e
 f2c5a">Understand how franchising works and what drives success</li> <li d
 ir="ltr" data-list-item-id="e97f59be8fef46c9b7a8caf6e59d37f54">Clarify you
 r personal and professional goals</li> <li dir="ltr" data-list-item-id="e3
 961f7dacae29aacb50fccaa5f6bba58">Evaluate your skills, resources and readi
 ness for ownership</li> <li dir="ltr" data-list-item-id="e10927e56df643d22
 a23e6d0f8b65acf5">Explore franchise opportunities beyond fast food</li> <l
 i dir="ltr" data-list-item-id="ee022b39842e1b3c2a9486ec4835155d2">Identify
  franchise models that align with your goals and lifestyle</li> </ul> <p>&
 nbsp\;</p> <p style="text-align: center\;"><a class="btn btn-primary" href
 ="https://app.webinar.net/0xWnJW9Kq64?mcc=monthlynews" target="_blank" rel
 ="noopener">Register Here</a></p></div><div>--- This iCal file does *NOT* 
 confirm registration.Event details subject to change. ---</div><div>--- Te
 ndenci&reg\; Software by <a href="https://www.tendenci.com">tendenci.com</
 a> - The Open Source AMS for Associations ---</div>
BEGIN:VALARM
TRIGGER:-PT30M
ACTION:DISPLAY
DESCRIPTION:Reminder
END:VALARM
END:VEVENT
END:VCALENDAR
