BEGIN:VCALENDAR
VERSION:2.0
METHOD:PUBLISH
PRODID:-//Tendenci - The Open Source AMS for Associations//Tendenci Codeba
 se MIMEDIR//EN
BEGIN:VEVENT
DESCRIPTION:--- This iCal file does *NOT* confirm registration.\nEvent det
 ails subject to change. ---\nhttps://www.rialliance.org/events/460/\n\nEve
 nt Title: Global Community Engagement\nStart Date / Time: Mar 12, 2026 16:
 00 PM US/Eastern\nLocation: Brown University: The Swearer Center for Publi
 c Service\nGoogle\nhttp://maps.google.com/maps?q=2+Stimson+Ave,Providence,
 RI,02912\n\nForecast\nhttp://www.weather.com/weather/monthly/02912\n\nPres
 ented by the Swearer Center for Public Service\n \nThis workshop prepares 
 participants to go beyond the traditional &ldquo\;helping&rdquo\; narrativ
 e to focus on ethical, equitable, and mutually beneficial collaborations d
 uring engagements abroad. Through case studies and guided reflection, part
 icipants will equip themselves with the tools and practice to best engage 
 the communities they seek to enter.\n \nRegister Here\n\n--- This iCal fil
 e does *NOT* confirm registration.Event details subject to change. ---\n\n
 --- By Tendenci - The Open Source AMS for Associations ---\n
UID:uid460@rialliance.org
SUMMARY:Global Community Engagement
DTSTART:20260312T200000Z
DTEND:20260312T220000Z
CLASS:PUBLIC
PRIORITY:5
DTSTAMP:20260421T090351Z
TRANSP:OPAQUE
SEQUENCE:0
LOCATION:Brown University: The Swearer Center for Public Service
X-ALT-DESC;FMTTYPE=text/html:<div>--- This iCal file does *NOT* confirm re
 gistration.Event details subject to change. ---</div><h1>Event Title: Glob
 al Community Engagement</h1><div>https://www.rialliance.org/events/460/</d
 iv><br /><div>When: Mar 12, 2026 16:00 PM US/Eastern</div><br />Brown Univ
 ersity: The Swearer Center for Public Service<br />2 Stimson Ave<br />Prov
 idence, RI 02912<br /><div>http://maps.google.com/maps?q=2+Stimson+Ave,Pro
 vidence,RI,02912</div><br /><div>Forecast: http://www.weather.com/weather/
 monthly/02912</div><br /><br /><div><p><em>Presented by the Swearer Center
  for Public Service</em></p> <p>&nbsp\;</p> <p>This workshop prepares part
 icipants to go beyond the traditional &ldquo\;helping&rdquo\; narrative to
  focus on ethical, equitable, and mutually beneficial collaborations durin
 g engagements abroad. Through case studies and guided reflection, particip
 ants will equip themselves with the tools and practice to best engage the 
 communities they seek to enter.</p> <p>&nbsp\;</p> <p style="text-align: c
 enter\;"><a class="btn btn-primary" href="https://events.brown.edu/swearer
 /event/325190-global-community-engagement" target="_blank" rel="noopener">
 Register Here</a></p></div><div>--- This iCal file does *NOT* confirm regi
 stration.Event details subject to change. ---</div><div>--- Tendenci&reg\;
  Software by <a href="https://www.tendenci.com">tendenci.com</a> - The Ope
 n Source AMS for Associations ---</div>
BEGIN:VALARM
TRIGGER:-PT30M
ACTION:DISPLAY
DESCRIPTION:Reminder
END:VALARM
END:VEVENT
END:VCALENDAR
