BEGIN:VCALENDAR
VERSION:2.0
METHOD:PUBLISH
PRODID:-//Tendenci - The Open Source AMS for Associations//Tendenci Codeba
 se MIMEDIR//EN
BEGIN:VEVENT
DESCRIPTION:--- This iCal file does *NOT* confirm registration.\nEvent det
 ails subject to change. ---\nhttps://www.rialliance.org/events/462/\n\nEve
 nt Title: Community-Engaged Health Partners Panel\nStart Date / Time: Apr 
 09, 2026 16:00 PM US/Eastern\nLocation: Brown University: The Swearer Cent
 er for Public Service\nGoogle\nhttp://maps.google.com/maps?q=2+Stimson+Ave
 ,Providence,RI,02912\n\nForecast\nhttp://www.weather.com/weather/monthly/0
 2912\n\nPresented by the Swaerer Center for Public Service at Brown Univer
 sity\n \n \nThis workshop is part two in a two-part series exploring the h
 ealth and community engagement landscape in Rhode Island. Join us for the 
 Community-Engaged Health Partners Panel, a session featuring leaders who a
 re working collaboratively on health issues here in Rhode Island.\n \nIn t
 his panel discussion, panelists will elaborate on their collaborations. Th
 ey will share the challenges of building sustainable partnerships, talk ab
 out the successes, and discuss how community engagement has fundamentally 
 strengthened and innovated on health approaches.\n \nRegister Here\n\n--- 
 This iCal file does *NOT* confirm registration.Event details subject to ch
 ange. ---\n\n--- By Tendenci - The Open Source AMS for Associations ---\n
UID:uid462@rialliance.org
SUMMARY:Community-Engaged Health Partners Panel
DTSTART:20260409T200000Z
DTEND:20260409T220000Z
CLASS:PUBLIC
PRIORITY:5
DTSTAMP:20260421T064459Z
TRANSP:OPAQUE
SEQUENCE:0
LOCATION:Brown University: The Swearer Center for Public Service
X-ALT-DESC;FMTTYPE=text/html:<div>--- This iCal file does *NOT* confirm re
 gistration.Event details subject to change. ---</div><h1>Event Title: Comm
 unity-Engaged Health Partners Panel</h1><div>https://www.rialliance.org/ev
 ents/462/</div><br /><div>When: Apr 09, 2026 16:00 PM US/Eastern</div><br 
 />Brown University: The Swearer Center for Public Service<br />2 Stimson A
 ve<br />Providence, RI 02912<br /><div>http://maps.google.com/maps?q=2+Sti
 mson+Ave,Providence,RI,02912</div><br /><div>Forecast: http://www.weather.
 com/weather/monthly/02912</div><br /><br /><div><p><em>Presented by the Sw
 aerer Center for Public Service at Brown University</em></p> <p>&nbsp\;</p
 > <p>&nbsp\;</p> <p data-path-to-node="5"><em>This workshop is part two in
  a two-part series exploring the health and community engagement landscape
  in Rhode Island. J</em>oin us for the Community-Engaged Health Partners P
 anel, a session featuring leaders who are working collaboratively on healt
 h issues here in Rhode Island.</p> <p data-path-to-node="5">&nbsp\;</p> <p
  data-path-to-node="6">In this panel discussion, panelists will elaborate 
 on their collaborations. They will share the challenges of building sustai
 nable partnerships, talk about the successes, and discuss how community en
 gagement has fundamentally strengthened and innovated on health approaches
 .</p> <p data-path-to-node="6">&nbsp\;</p> <p style="text-align: center\;"
  data-path-to-node="6"><a class="btn btn-primary" href="https://events.bro
 wn.edu/swearer/event/325197-community-engaged-health-partners-panel" targe
 t="_blank" rel="noopener">Register Here</a></p></div><div>--- This iCal fi
 le does *NOT* confirm registration.Event details subject to change. ---</d
 iv><div>--- Tendenci&reg\; Software by <a href="https://www.tendenci.com">
 tendenci.com</a> - The Open Source AMS for Associations ---</div>
BEGIN:VALARM
TRIGGER:-PT30M
ACTION:DISPLAY
DESCRIPTION:Reminder
END:VALARM
END:VEVENT
END:VCALENDAR
