BEGIN:VCALENDAR
VERSION:2.0
METHOD:PUBLISH
PRODID:-//Tendenci - The Open Source AMS for Associations//Tendenci Codeba
 se MIMEDIR//EN
BEGIN:VEVENT
DESCRIPTION:--- This iCal file does *NOT* confirm registration.\nEvent det
 ails subject to change. ---\nhttps://www.rialliance.org/events/463/\n\nEve
 nt Title: Black Maternal Health Week Walk 2026\nStart Date / Time: Apr 11,
  2026 10:00 AM US/Eastern\nLocation: Colt State Park\nGoogle\nhttp://maps.
 google.com/maps?q=Route+114,Bristol,RI,02809\n\nForecast\nhttp://www.weath
 er.com/weather/monthly/02809\n\nPresented by Urban Perinatal Education Cen
 ter\n \nWe are hosting an awareness event to promote education and awarene
 ss about BMHW and to support the Urban Perinatal Education Center's effort
 s to increase perinatal equity. Join us for a lively walk through Colt Sta
 te Park and then meet up at the Pavilion to share in food, drinks, and con
 versation. This gathering is potluck-style and BYOC (bring your own chair)
 . You are welcome to bring a blanket. The location is by the water, so the
  temperatures may be cooler. Plan accordingly. All additional donations su
 pport Black Maternal Health equity efforts with the Urban Perinatal Educat
 ion Center. Any questions please contact us at info@urbanperinatal.org\n \
 nRegister Here\n\n--- This iCal file does *NOT* confirm registration.Event
  details subject to change. ---\n\n--- By Tendenci - The Open Source AMS f
 or Associations ---\n
UID:uid463@rialliance.org
SUMMARY:Black Maternal Health Week Walk 2026
DTSTART:20260411T140000Z
DTEND:20260411T180000Z
CLASS:PUBLIC
PRIORITY:5
DTSTAMP:20260423T090109Z
TRANSP:OPAQUE
SEQUENCE:0
LOCATION:Colt State Park
X-ALT-DESC;FMTTYPE=text/html:<div>--- This iCal file does *NOT* confirm re
 gistration.Event details subject to change. ---</div><h1>Event Title: Blac
 k Maternal Health Week Walk 2026</h1><div>https://www.rialliance.org/event
 s/463/</div><br /><div>When: Apr 11, 2026 10:00 AM US/Eastern</div><br />C
 olt State Park<br />Route 114<br />Bristol, RI 02809<br /><div>http://maps
 .google.com/maps?q=Route+114,Bristol,RI,02809</div><br /><div>Forecast: ht
 tp://www.weather.com/weather/monthly/02809</div><br /><br /><div><p><em>Pr
 esented by Urban Perinatal Education Center</em></p> <p>&nbsp\;</p> <p>We 
 are hosting an awareness event to promote education and awareness about BM
 HW and to support the Urban Perinatal Education Center's efforts to increa
 se perinatal equity. Join us for a lively walk through Colt State Park and
  then meet up at the Pavilion to share in food, drinks, and conversation. 
 This gathering is potluck-style and BYOC (bring your own chair). You are w
 elcome to bring a blanket. The location is by the water, so the temperatur
 es may be cooler. Plan accordingly. All additional donations support Black
  Maternal Health equity efforts with the Urban Perinatal Education Center.
  Any questions please contact us at info@urbanperinatal.org</p> <p>&nbsp\;
 </p> <p><a class="btn btn-primary" href="https://www.eventbrite.com/e/blac
 k-maternal-health-week-walk-2026-tickets-1983206612364?aff=oddtdtcreator" 
 target="_blank" rel="noopener">Register Here</a></p></div><div>--- This iC
 al file does *NOT* confirm registration.Event details subject to change. -
 --</div><div>--- Tendenci&reg\; Software by <a href="https://www.tendenci.
 com">tendenci.com</a> - The Open Source AMS for Associations ---</div>
BEGIN:VALARM
TRIGGER:-PT30M
ACTION:DISPLAY
DESCRIPTION:Reminder
END:VALARM
END:VEVENT
END:VCALENDAR
