BEGIN:VCALENDAR
VERSION:2.0
METHOD:PUBLISH
PRODID:-//Tendenci - The Open Source AMS for Associations//Tendenci Codeba
 se MIMEDIR//EN
BEGIN:VEVENT
DESCRIPTION:--- This iCal file does *NOT* confirm registration.\nEvent det
 ails subject to change. ---\nhttps://www.rialliance.org/events/464/\n\nEve
 nt Title: Bowling for Justice and Joy: Black Maternal Health Week 2026\nSt
 art Date / Time: Apr 17, 2026 20:00 PM US/Eastern\nLocation: Lang's Bowlar
 ama\nGoogle\nhttp://maps.google.com/maps?q=225+Niantic+Avenue,Cranston,RI,
 02907\n\nForecast\nhttp://www.weather.com/weather/monthly/02907\n\nPresent
 ed by Urban Perinatal Education Center\n \nWe are hosting our annual bowli
 ng awareness event to promote education about BMHW and to support the Urba
 n Perinatal Education Center's efforts.\n \n\nWe are hosting our annual bo
 wling awareness event to promote education about BMHW and to support the U
 rban Perinatal Education Center's efforts to increase perinatal equity.\n 
 \n\nRegister Here\n\n--- This iCal file does *NOT* confirm registration.Ev
 ent details subject to change. ---\n\n--- By Tendenci - The Open Source AM
 S for Associations ---\n
UID:uid464@rialliance.org
SUMMARY:Bowling for Justice and Joy: Black Maternal Health Week 2026
DTSTART:20260418T000000Z
DTEND:20260418T020000Z
CLASS:PUBLIC
PRIORITY:5
DTSTAMP:20260421T094215Z
TRANSP:OPAQUE
SEQUENCE:0
LOCATION:Lang's Bowlarama
X-ALT-DESC;FMTTYPE=text/html:<div>--- This iCal file does *NOT* confirm re
 gistration.Event details subject to change. ---</div><h1>Event Title: Bowl
 ing for Justice and Joy: Black Maternal Health Week 2026</h1><div>https://
 www.rialliance.org/events/464/</div><br /><div>When: Apr 17, 2026 20:00 PM
  US/Eastern</div><br />Lang's Bowlarama<br />225 Niantic Avenue<br />Crans
 ton, RI 02907<br /><div>http://maps.google.com/maps?q=225+Niantic+Avenue,C
 ranston,RI,02907</div><br /><div>Forecast: http://www.weather.com/weather/
 monthly/02907</div><br /><br /><div><p><em>Presented by Urban Perinatal Ed
 ucation Center</em></p> <p>&nbsp\;</p> <p>We are hosting our annual bowlin
 g awareness event to promote education about BMHW and to support the Urban
  Perinatal Education Center's efforts.</p> <p>&nbsp\;</p> <div> <p>We are 
 hosting our annual bowling awareness event to promote education about BMHW
  and to support the Urban Perinatal Education Center's efforts to increase
  perinatal equity.</p> <p>&nbsp\;</p> </div> <p style="text-align: center\
 ;"><a class="btn btn-primary" href="https://www.eventbrite.com/e/bmhw26-bo
 wling-for-justice-and-joy-tickets-1983207351575" target="_blank" rel="noop
 ener">Register Here</a></p></div><div>--- This iCal file does *NOT* confir
 m registration.Event details subject to change. ---</div><div>--- Tendenci
 &reg\; Software by <a href="https://www.tendenci.com">tendenci.com</a> - T
 he Open Source AMS for Associations ---</div>
BEGIN:VALARM
TRIGGER:-PT30M
ACTION:DISPLAY
DESCRIPTION:Reminder
END:VALARM
END:VEVENT
END:VCALENDAR
