BEGIN:VCALENDAR
VERSION:2.0
METHOD:PUBLISH
PRODID:-//Tendenci - The Open Source AMS for Associations//Tendenci Codeba
 se MIMEDIR//EN
BEGIN:VEVENT
DESCRIPTION:--- This iCal file does *NOT* confirm registration.\nEvent det
 ails subject to change. ---\nhttps://www.rialliance.org/events/465/\n\nEve
 nt Title: Dr. Maysa Akbar's Urban Trauma Informed Training\nStart Date / T
 ime: Apr 24, 2026 09:00 AM US/Eastern\nLocation: Rhode Island Nursing Educ
 ation Center\nGoogle\nhttp://maps.google.com/maps?q=350+Eddy+Street,Provid
 ence,RI,02903\n\nForecast\nhttp://www.weather.com/weather/monthly/02903\n\
 nPresented by the Urban Perinatal Education Center\n \nThe Urban Trauma Fr
 amework was developed for any organization/individual that routinely works
  with, servces to, or whose clients include members within communities of 
 color.\n \nUrban Trauma Can Be\n\nMultigenerational and ongoing\nHeightene
 d by traumatic stress and adverse childhood experiences\nPerpetuated by mu
 ltiple forms of racism that have been supported by government, laws, insti
 tutions, and people\n\n \nRegister Here\n\n--- This iCal file does *NOT* c
 onfirm registration.Event details subject to change. ---\n\n--- By Tendenc
 i - The Open Source AMS for Associations ---\n
UID:uid465@rialliance.org
SUMMARY:Dr. Maysa Akbar's Urban Trauma Informed Training
DTSTART:20260424T130000Z
DTEND:20260424T210000Z
CLASS:PUBLIC
PRIORITY:5
DTSTAMP:20260421T063927Z
TRANSP:OPAQUE
SEQUENCE:0
LOCATION:Rhode Island Nursing Education Center
X-ALT-DESC;FMTTYPE=text/html:<div>--- This iCal file does *NOT* confirm re
 gistration.Event details subject to change. ---</div><h1>Event Title: Dr. 
 Maysa Akbar's Urban Trauma Informed Training</h1><div>https://www.riallian
 ce.org/events/465/</div><br /><div>When: Apr 24, 2026 09:00 AM US/Eastern<
 /div><br />Rhode Island Nursing Education Center<br />350 Eddy Street<br /
 >Providence, RI 02903<br /><div>http://maps.google.com/maps?q=350+Eddy+Str
 eet,Providence,RI,02903</div><br /><div>Forecast: http://www.weather.com/w
 eather/monthly/02903</div><br /><br /><div><p><em>Presented by the Urban P
 erinatal Education Center</em></p> <p>&nbsp\;</p> <p>The Urban Trauma Fram
 ework was developed for any organization/individual that routinely works w
 ith, servces to, or whose clients include members within communities of co
 lor.</p> <p>&nbsp\;</p> <p>Urban Trauma Can Be</p> <ul> <li>Multigeneratio
 nal and ongoing</li> <li>Heightened by traumatic stress and adverse childh
 ood experiences</li> <li>Perpetuated by multiple forms of racism that have
  been supported by government, laws, institutions, and people</li> </ul> <
 p>&nbsp\;</p> <p style="text-align: center\;"><a class="btn btn-primary" h
 ref="https://www.eventbrite.com/e/urban-trauma-informed-training-tickets-1
 983208564202" target="_blank" rel="noopener">Register Here</a></p></div><d
 iv>--- This iCal file does *NOT* confirm registration.Event details subjec
 t to change. ---</div><div>--- Tendenci&reg\; Software by <a href="https:/
 /www.tendenci.com">tendenci.com</a> - The Open Source AMS for Associations
  ---</div>
BEGIN:VALARM
TRIGGER:-PT30M
ACTION:DISPLAY
DESCRIPTION:Reminder
END:VALARM
END:VEVENT
END:VCALENDAR
