BEGIN:VCALENDAR
VERSION:2.0
METHOD:PUBLISH
PRODID:-//Tendenci - The Open Source AMS for Associations//Tendenci Codeba
 se MIMEDIR//EN
BEGIN:VEVENT
DESCRIPTION:--- This iCal file does *NOT* confirm registration.\nEvent det
 ails subject to change. ---\nhttps://www.rialliance.org/events/466/\n\nEve
 nt Title: Info Session: ELI+ / Core Certificate and RISE Program\nStart Da
 te / Time: Mar 11, 2026 17:00 PM US/Eastern\nLocation: \nPresented by Inst
 itute for Nonprofit Practice\n \nELI+ is designed to deepen leadership cap
 acity through structured learning, peer engagement, and applied practice t
 hrough an equity lens. In partnership with INP's Core program, ELI+ is par
 t of a coordinated leadership development pathway that strengthens alignme
 nt across programs and creates meaningful opportunities for continued grow
 th and connections.\n \nWe invite eligible candidates to apply and take th
 e next step in the leadership development journey. To help prospective app
 licants learn more about the ELI+ and INP Core programs, INP is hosting tw
 o virtual information sessions covering program expectations, structure, a
 nd the application process. The registration links are below.\n \nDuring e
 ach session, there will be an overview of:\n-Program goals and learning ou
 tcomes\n-Participation requirements and time commitment\n-Key program date
 s \n-Application components and selection criteria\n \nThe application dea
 dline is March 30, 2026.  ELI+ and INP's Core program application material
 s and additional program details are available here.\n \nRegister Here\n\n
 --- This iCal file does *NOT* confirm registration.Event details subject t
 o change. ---\n\n--- By Tendenci - The Open Source AMS for Associations --
 -\n
UID:uid466@rialliance.org
SUMMARY:Info Session: ELI+ / Core Certificate and RISE Program
DTSTART:20260311T210000Z
DTEND:20260311T214500Z
CLASS:PUBLIC
PRIORITY:5
DTSTAMP:20260421T063014Z
TRANSP:OPAQUE
SEQUENCE:0
X-ALT-DESC;FMTTYPE=text/html:<div>--- This iCal file does *NOT* confirm re
 gistration.Event details subject to change. ---</div><h1>Event Title: Info
  Session: ELI+ / Core Certificate and RISE Program</h1><div>https://www.ri
 alliance.org/events/466/</div><br /><div>When: Mar 11, 2026 17:00 PM US/Ea
 stern</div><br /><div><p><em>Presented by Institute for Nonprofit Practice
 </em></p> <p>&nbsp\;</p> <p class="x_x_x_MsoNormal"><span data-olk-copy-so
 urce="MessageBody">ELI+ is designed to deepen leadership capacity through 
 structured learning, peer engagement, and applied practice through an equi
 ty lens. In partnership with INP's Core program, ELI+ is part of a coordin
 ated leadership development pathway that strengthens alignment across prog
 rams and creates meaningful opportunities for continued growth and connect
 ions.</span></p> <p class="x_x_x_MsoNormal">&nbsp\;</p> <p class="x_x_x_Ms
 oNormal">We invite eligible candidates to apply and take the next step in 
 the leadership development journey.&nbsp\;To help prospective applicants l
 earn more about the ELI+ and INP Core programs, INP is hosting two virtual
  information sessions covering program expectations, structure, and the ap
 plication process. The registration links are below.</p> <p class="x_x_x_M
 soNormal">&nbsp\;</p> <p class="x_x_x_MsoNormal"><strong><span data-olk-co
 py-source="MessageBody">During each session, there will be an overview of:
 </span></strong></p> <p class="x_x_x_MsoNormal">-Program goals and learnin
 g outcomes</p> <p class="x_x_x_MsoNormal">-Participation requirements and 
 time commitment</p> <p class="x_x_x_MsoNormal">-Key program dates&nbsp\;</
 p> <p class="x_x_x_MsoNormal">-Application components and selection criter
 ia</p> <p class="x_x_x_MsoNormal">&nbsp\;</p> <p class="x_x_x_MsoNormal">T
 he application deadline is March 30, 2026.&nbsp\; ELI+ and INP's Core prog
 ram application materials and additional program details are available&nbs
 p\;<a title="https://rifoundation.org/investing-in-a-thriving-rhode-island
 /capacity-building-for-nonprofits/capacity-building-workshops" href="https
 ://rifoundation.org/investing-in-a-thriving-rhode-island/capacity-building
 -for-nonprofits/capacity-building-workshops" target="_blank" rel="noopener
  noreferrer" data-auth="NotApplicable" data-linkindex="7">here.</a></p> <p
  class="x_x_x_MsoNormal" style="text-align: center\;">&nbsp\;</p> <p class
 ="x_x_x_MsoNormal" style="text-align: center\;"><a class="btn btn-primary"
  href="https://calendly.com/inp-recruitment/rif/2026-03-11T17:00:00-04:00?
 month=2026-03&amp\;date=2026-03-11" target="_blank" rel="noopener">Registe
 r Here</a></p></div><div>--- This iCal file does *NOT* confirm registratio
 n.Event details subject to change. ---</div><div>--- Tendenci&reg\; Softwa
 re by <a href="https://www.tendenci.com">tendenci.com</a> - The Open Sourc
 e AMS for Associations ---</div>
BEGIN:VALARM
TRIGGER:-PT30M
ACTION:DISPLAY
DESCRIPTION:Reminder
END:VALARM
END:VEVENT
END:VCALENDAR
