BEGIN:VCALENDAR
VERSION:2.0
METHOD:PUBLISH
PRODID:-//Tendenci - The Open Source AMS for Associations//Tendenci Codeba
 se MIMEDIR//EN
BEGIN:VEVENT
DESCRIPTION:--- This iCal file does *NOT* confirm registration.\nEvent det
 ails subject to change. ---\nhttps://www.rialliance.org/events/468/\n\nEve
 nt Title: Assertiveness | The Art Of Tactful Communication (Virtual)\nStar
 t Date / Time: Mar 18, 2026 08:30 AM US/Eastern\nLocation: \nPresented by 
 the Employers Association of the Northeast\n \nAssertiveness goes beyond j
 ust communication\; it plays a key role in building confidence, earning re
 spect, and making decisive choices in challenging situations. By improving
  your assertiveness, you&rsquo\;ll learn to express your feelings, set bou
 ndaries, and make requests in a clear, appropriate way. Developing these s
 kills will help you communicate effectively and navigate difficult situati
 ons with ease.\n \nRegister Here\n\n--- This iCal file does *NOT* confirm 
 registration.Event details subject to change. ---\n\n--- By Tendenci - The
  Open Source AMS for Associations ---\n
UID:uid468@rialliance.org
SUMMARY:Assertiveness | The Art Of Tactful Communication (Virtual)
DTSTART:20260318T123000Z
DTEND:20260318T160000Z
CLASS:PUBLIC
PRIORITY:5
DTSTAMP:20260421T063116Z
TRANSP:OPAQUE
SEQUENCE:0
X-ALT-DESC;FMTTYPE=text/html:<div>--- This iCal file does *NOT* confirm re
 gistration.Event details subject to change. ---</div><h1>Event Title: Asse
 rtiveness | The Art Of Tactful Communication (Virtual)</h1><div>https://ww
 w.rialliance.org/events/468/</div><br /><div>When: Mar 18, 2026 08:30 AM U
 S/Eastern</div><br /><div><p><em>Presented by the Employers Association of
  the Northeast</em></p> <p>&nbsp\;</p> <p>Assertiveness goes beyond just c
 ommunication\; it plays a key role in building confidence, earning respect
 , and making decisive choices in challenging situations. By improving your
  assertiveness, you&rsquo\;ll learn to express your feelings, set boundari
 es, and make requests in a clear, appropriate way. Developing these skills
  will help you communicate effectively and navigate difficult situations w
 ith ease.</p> <p>&nbsp\;</p> <p style="text-align: center\;"><a class="btn
  btn-primary" href="https://www.eane.org/event/assertiveness-the-art-of-ta
 ctful-communication-virtual-3/" target="_blank" rel="noopener">Register He
 re</a></p></div><div>--- This iCal file does *NOT* confirm registration.Ev
 ent details subject to change. ---</div><div>--- Tendenci&reg\; Software b
 y <a href="https://www.tendenci.com">tendenci.com</a> - The Open Source AM
 S for Associations ---</div>
BEGIN:VALARM
TRIGGER:-PT30M
ACTION:DISPLAY
DESCRIPTION:Reminder
END:VALARM
END:VEVENT
END:VCALENDAR
