BEGIN:VCALENDAR
VERSION:2.0
METHOD:PUBLISH
PRODID:-//Tendenci - The Open Source AMS for Associations//Tendenci Codeba
 se MIMEDIR//EN
BEGIN:VEVENT
DESCRIPTION:--- This iCal file does *NOT* confirm registration.\nEvent det
 ails subject to change. ---\nhttps://www.rialliance.org/events/470/\n\nEve
 nt Title: The Hidden Cost of Financial Stress in the Workplace — What HR
  Needs to Know in 2026\nStart Date / Time: Mar 18, 2026 12:00 PM US/Easter
 n\nLocation: \nSpeaker: Gordon Oliver\nPresented by the Employers Associat
 ion of the Northeast\n \nThis educational session explores how employee de
 bt and financial stress show up at work and what actually helps. Participa
 nts will gain insight into how:\n\nfinancial stress impacts absenteeism, p
 resenteeism, burnout, and turnover\;\nwhat HR teams are seeing across indu
 stries and why traditional benefits often fall short\;\nhow nonprofit cred
 it counseling and Debt Management Plans work in practice\;\nand why certai
 n for-profit debt settlement and credit repair programs can create risk an
 d unintended harm for employees.\n\n \nThe discussion will also highlight 
 practical, compliant ways HR can support employee financial wellness witho
 ut becoming financial advisors. Attendees will leave with a clearer unders
 tanding of financial stress as a workplace issue, better language for addr
 essing financial wellness responsibly, and increased confidence in evaluat
 ing support options that protect both employees and the organization. This
  is an educational, peer-focused conversation with no sales pitch, designe
 d for HR Managers, Benefits and Total Rewards Leaders, People &amp\; Cultu
 re Professionals, and Business Owners who want to make informed, responsib
 le decisions around employee well-being.\n \nRegister Here\n\n--- This iCa
 l file does *NOT* confirm registration.Event details subject to change. --
 -\n\n--- By Tendenci - The Open Source AMS for Associations ---\n
UID:uid470@rialliance.org
SUMMARY:The Hidden Cost of Financial Stress in the Workplace — What HR Needs to Know in 2026
DTSTART:20260318T160000Z
DTEND:20260318T170000Z
CLASS:PUBLIC
PRIORITY:5
DTSTAMP:20260421T084425Z
TRANSP:OPAQUE
SEQUENCE:0
X-ALT-DESC;FMTTYPE=text/html:<div>--- This iCal file does *NOT* confirm re
 gistration.Event details subject to change. ---</div><h1>Event Title: The 
 Hidden Cost of Financial Stress in the Workplace — What HR Needs to Know
  in 2026</h1><div>https://www.rialliance.org/events/470/</div><br /><div>W
 hen: Mar 18, 2026 12:00 PM US/Eastern</div><div>Speaker: Gordon Oliver</di
 v><br /><div><p><em>Presented by the Employers Association of the Northeas
 t</em></p> <p>&nbsp\;</p> <p>This educational session explores how employe
 e debt and financial stress show up at work and what actually helps. Parti
 cipants will gain insight into how:</p> <ul> <li>financial stress impacts 
 absenteeism, presenteeism, burnout, and turnover\;</li> <li>what HR teams 
 are seeing across industries and why traditional benefits often fall short
 \;</li> <li>how nonprofit credit counseling and Debt Management Plans work
  in practice\;</li> <li>and why certain for-profit debt settlement and cre
 dit repair programs can create risk and unintended harm for employees.</li
 > </ul> <p>&nbsp\;</p> <p>The discussion will also highlight practical, co
 mpliant ways HR can support employee financial wellness without becoming f
 inancial advisors. Attendees will leave with a clearer understanding of fi
 nancial stress as a workplace issue, better language for addressing financ
 ial wellness responsibly, and increased confidence in evaluating support o
 ptions that protect both employees and the organization. This is an educat
 ional, peer-focused conversation with no sales pitch, designed for HR Mana
 gers, Benefits and Total Rewards Leaders, People &amp\; Culture Profession
 als, and Business Owners who want to make informed, responsible decisions 
 around employee well-being.</p> <p>&nbsp\;</p> <p style="text-align: cente
 r\;"><a class="btn btn-primary" href="https://www.eane.org/event/the-hidde
 n-cost-of-financial-stress-in-the-workplace-what-hr-needs-to-know-in-2026-
 webinar/" target="_blank" rel="noopener">Register Here</a></p></div><div>-
 -- This iCal file does *NOT* confirm registration.Event details subject to
  change. ---</div><div>--- Tendenci&reg\; Software by <a href="https://www
 .tendenci.com">tendenci.com</a> - The Open Source AMS for Associations ---
 </div>
BEGIN:VALARM
TRIGGER:-PT30M
ACTION:DISPLAY
DESCRIPTION:Reminder
END:VALARM
END:VEVENT
END:VCALENDAR
