BEGIN:VCALENDAR
VERSION:2.0
METHOD:PUBLISH
PRODID:-//Tendenci - The Open Source AMS for Associations//Tendenci Codeba
 se MIMEDIR//EN
BEGIN:VEVENT
DESCRIPTION:--- This iCal file does *NOT* confirm registration.\nEvent det
 ails subject to change. ---\nhttps://www.rialliance.org/events/472/\n\nEve
 nt Title: Impactful Speaking Skills\nStart Date / Time: Mar 20, 2026 08:30
  AM US/Eastern\nLocation: Agawam MA Training Location\nSpeaker: Gina Ohane
 sian\nGoogle\nhttp://maps.google.com/maps?q=67+Hunt+St,Agawam,MA,01001\n\n
 Forecast\nhttp://www.weather.com/weather/monthly/01001\n\nPresented by the
  Employers Association of the Northeast\nCost: $405\n \nThis program helps
  participants build the skills to make a strong, positive impression when 
 speaking to groups, enhancing their confidence and ability to influence li
 steners. Through a focus on organization, preparation, and practice, you&r
 squo\;ll learn to deliver presentations that meet audience needs and achie
 ve objectives in both in-person and virtual settings. The course emphasize
 s real-time application, with opportunities for peer feedback, video recor
 ding, and action planning to improve your presentation skills.\nLimited to
  10 seats.\n \nRegister Here\n\n--- This iCal file does *NOT* confirm regi
 stration.Event details subject to change. ---\n\n--- By Tendenci - The Ope
 n Source AMS for Associations ---\n
UID:uid472@rialliance.org
SUMMARY:Impactful Speaking Skills
DTSTART:20260320T123000Z
DTEND:20260320T210000Z
CLASS:PUBLIC
PRIORITY:5
DTSTAMP:20260421T064934Z
TRANSP:OPAQUE
SEQUENCE:0
LOCATION:Agawam MA Training Location
X-ALT-DESC;FMTTYPE=text/html:<div>--- This iCal file does *NOT* confirm re
 gistration.Event details subject to change. ---</div><h1>Event Title: Impa
 ctful Speaking Skills</h1><div>https://www.rialliance.org/events/472/</div
 ><br /><div>When: Mar 20, 2026 08:30 AM US/Eastern</div><div>Speaker: Gina
  Ohanesian</div><br />Agawam MA Training Location<br />67 Hunt St<br />Aga
 wam, MA 01001<br /><div>http://maps.google.com/maps?q=67+Hunt+St,Agawam,MA
 ,01001</div><br /><div>Forecast: http://www.weather.com/weather/monthly/01
 001</div><br /><br /><div><p><em>Presented by the Employers Association of
  the Northeast</em></p> <p>Cost: $405</p> <p>&nbsp\;</p> <p>This program h
 elps participants build the skills to make a strong, positive impression w
 hen speaking to groups, enhancing their confidence and ability to influenc
 e listeners. Through a focus on organization, preparation, and practice, y
 ou&rsquo\;ll learn to deliver presentations that meet audience needs and a
 chieve objectives in both in-person and virtual settings. The course empha
 sizes real-time application, with opportunities for peer feedback, video r
 ecording, and action planning to improve your presentation skills.</p> <p>
 <strong>Limited to 10 seats.</strong></p> <p>&nbsp\;</p> <p style="text-al
 ign: center\;"><a class="btn btn-primary" href="https://www.eane.org/event
 /impactful-speaking-skills-agawam-2/" target="_blank" rel="noopener"><stro
 ng>Register Here</strong></a></p></div><div>--- This iCal file does *NOT* 
 confirm registration.Event details subject to change. ---</div><div>--- Te
 ndenci&reg\; Software by <a href="https://www.tendenci.com">tendenci.com</
 a> - The Open Source AMS for Associations ---</div>
BEGIN:VALARM
TRIGGER:-PT30M
ACTION:DISPLAY
DESCRIPTION:Reminder
END:VALARM
END:VEVENT
END:VCALENDAR
