BEGIN:VCALENDAR
VERSION:2.0
METHOD:PUBLISH
PRODID:-//Tendenci - The Open Source AMS for Associations//Tendenci Codeba
 se MIMEDIR//EN
BEGIN:VEVENT
DESCRIPTION:--- This iCal file does *NOT* confirm registration.\nEvent det
 ails subject to change. ---\nhttps://www.rialliance.org/events/474/\n\nEve
 nt Title: The Leave Management Playbook\nStart Date / Time: Mar 25, 2026 0
 8:30 AM US/Eastern\nLocation: \nSpeaker: Sandi Mauro\nPresented by the Emp
 loyers Association of the Northeast\n \nManaging employee leave can be a c
 hallenge, especially when dealing with overlapping state and federal leave
  laws such as FMLA, ADA, and various state-specific laws like MA PFML, CT 
 PFL, and RI TDI. HR professionals often face confusion about how these law
 s interact and when they apply, while also trying to avoid leave abuse. Th
 is half-day program is designed to help you navigate the complexities of t
 hese leave laws and develop a clear strategy for managing leaves while rem
 aining compliant.\n \nRegister Here\n\n--- This iCal file does *NOT* confi
 rm registration.Event details subject to change. ---\n\n--- By Tendenci - 
 The Open Source AMS for Associations ---\n
UID:uid474@rialliance.org
SUMMARY:The Leave Management Playbook
DTSTART:20260325T123000Z
DTEND:20260325T160000Z
CLASS:PUBLIC
PRIORITY:5
DTSTAMP:20260421T064152Z
TRANSP:OPAQUE
SEQUENCE:0
X-ALT-DESC;FMTTYPE=text/html:<div>--- This iCal file does *NOT* confirm re
 gistration.Event details subject to change. ---</div><h1>Event Title: The 
 Leave Management Playbook</h1><div>https://www.rialliance.org/events/474/<
 /div><br /><div>When: Mar 25, 2026 08:30 AM US/Eastern</div><div>Speaker: 
 Sandi Mauro</div><br /><div><p><em>Presented by the Employers Association 
 of the Northeast</em></p> <p>&nbsp\;</p> <p>Managing employee leave can be
  a challenge, especially when dealing with overlapping state and federal l
 eave laws such as FMLA, ADA, and various state-specific laws like MA PFML,
  CT PFL, and RI TDI. HR professionals often face confusion about how these
  laws interact and when they apply, while also trying to avoid leave abuse
 . This half-day program is designed to help you navigate the complexities 
 of these leave laws and develop a clear strategy for managing leaves while
  remaining compliant.</p> <p>&nbsp\;</p> <p style="text-align: center\;"><
 a class="btn btn-primary" href="https://www.eane.org/event/the-leave-manag
 ement-playbook-virtual-4/" target="_blank" rel="noopener">Register Here</a
 ></p></div><div>--- This iCal file does *NOT* confirm registration.Event d
 etails subject to change. ---</div><div>--- Tendenci&reg\; Software by <a 
 href="https://www.tendenci.com">tendenci.com</a> - The Open Source AMS for
  Associations ---</div>
BEGIN:VALARM
TRIGGER:-PT30M
ACTION:DISPLAY
DESCRIPTION:Reminder
END:VALARM
END:VEVENT
END:VCALENDAR
