BEGIN:VCALENDAR
VERSION:2.0
METHOD:PUBLISH
PRODID:-//Tendenci - The Open Source AMS for Associations//Tendenci Codeba
 se MIMEDIR//EN
BEGIN:VEVENT
DESCRIPTION:--- This iCal file does *NOT* confirm registration.\nEvent det
 ails subject to change. ---\nhttps://www.rialliance.org/events/475/\n\nEve
 nt Title: Lunch & Learn: Navigating a Layoff/RIF\nStart Date / Time: Mar 2
 5, 2026 12:00 PM US/Eastern\nLocation: \nPresented by the Employers Associ
 ation of the Northeast\n \nThis session equips HR leaders and executives w
 ith the tools and process discipline needed to implement layoffs responsib
 ly and effectively. Attendees will explore legal considerations, communica
 tion sequencing, stakeholder preparation, emotional dynamics of notificati
 on conversations, and strategies for rebuilding stability and performance 
 after the transition. With a focus on dignity, clarity, and organizational
  stewardship, this program ensures the process supports, not harms, the lo
 ng-term health of the workforce and the business.\n \nRegister Here\n\n---
  This iCal file does *NOT* confirm registration.Event details subject to c
 hange. ---\n\n--- By Tendenci - The Open Source AMS for Associations ---\n
UID:uid475@rialliance.org
SUMMARY:Lunch & Learn: Navigating a Layoff/RIF
DTSTART:20260325T160000Z
DTEND:20260325T170000Z
CLASS:PUBLIC
PRIORITY:5
DTSTAMP:20260421T062948Z
TRANSP:OPAQUE
SEQUENCE:0
X-ALT-DESC;FMTTYPE=text/html:<div>--- This iCal file does *NOT* confirm re
 gistration.Event details subject to change. ---</div><h1>Event Title: Lunc
 h & Learn: Navigating a Layoff/RIF</h1><div>https://www.rialliance.org/eve
 nts/475/</div><br /><div>When: Mar 25, 2026 12:00 PM US/Eastern</div><br /
 ><div><p><em>Presented by the Employers Association of the Northeast</em><
 /p> <p>&nbsp\;</p> <p>This session equips HR leaders and executives with t
 he tools and process discipline needed to implement layoffs responsibly an
 d effectively. Attendees will explore legal considerations, communication 
 sequencing, stakeholder preparation, emotional dynamics of notification co
 nversations, and strategies for rebuilding stability and performance after
  the transition. With a focus on dignity, clarity, and organizational stew
 ardship, this program ensures the process supports, not harms, the long-te
 rm health of the workforce and the business.</p> <p>&nbsp\;</p> <p style="
 text-align: center\;"><a class="btn btn-primary" href="https://www.eane.or
 g/event/lunch-learn-navigating-a-layoff-rif-webinar/" target="_blank" rel=
 "noopener">Register Here</a></p></div><div>--- This iCal file does *NOT* c
 onfirm registration.Event details subject to change. ---</div><div>--- Ten
 denci&reg\; Software by <a href="https://www.tendenci.com">tendenci.com</a
 > - The Open Source AMS for Associations ---</div>
BEGIN:VALARM
TRIGGER:-PT30M
ACTION:DISPLAY
DESCRIPTION:Reminder
END:VALARM
END:VEVENT
END:VCALENDAR
