BEGIN:VCALENDAR
VERSION:2.0
METHOD:PUBLISH
PRODID:-//Tendenci - The Open Source AMS for Associations//Tendenci Codeba
 se MIMEDIR//EN
BEGIN:VEVENT
DESCRIPTION:--- This iCal file does *NOT* confirm registration.\nEvent det
 ails subject to change. ---\nhttps://www.rialliance.org/events/479/\n\nEve
 nt Title: Leveraging the Power of a Multi-Generational Workforce\nStart Da
 te / Time: Apr 02, 2026 08:30 AM US/Eastern\nLocation: \nSpeaker: Sandi Ma
 uro\nGoogle\nhttp://maps.google.com/maps?q=67+Hunt+St,Agawam,MA,01001\n\nF
 orecast\nhttp://www.weather.com/weather/monthly/01001\n\nPresented by the 
 Employers Association of the Northeast\nCost: $280\n \nThis engaging progr
 am helps participants gain insights into communication styles, values, and
  motivators that drive Baby Boomers, Gen X, Millennials, and Gen Z. When o
 rganizations embrace generational diversity, we can boost innovation, rete
 ntion, and performance. Join us to learn how your workforce can bridge gap
 s and thrive together &ndash\; because when generations unite, greatness h
 appens.\n \nRegister Here\n\n--- This iCal file does *NOT* confirm registr
 ation.Event details subject to change. ---\n\n--- By Tendenci - The Open S
 ource AMS for Associations ---\n
UID:uid479@rialliance.org
SUMMARY:Leveraging the Power of a Multi-Generational Workforce
DTSTART:20260402T123000Z
DTEND:20260402T150000Z
CLASS:PUBLIC
PRIORITY:5
DTSTAMP:20260421T062941Z
TRANSP:OPAQUE
SEQUENCE:0
X-ALT-DESC;FMTTYPE=text/html:<div>--- This iCal file does *NOT* confirm re
 gistration.Event details subject to change. ---</div><h1>Event Title: Leve
 raging the Power of a Multi-Generational Workforce</h1><div>https://www.ri
 alliance.org/events/479/</div><br /><div>When: Apr 02, 2026 08:30 AM US/Ea
 stern</div><div>Speaker: Sandi Mauro</div><br /><br />67 Hunt St<br />Agaw
 am, MA 01001<br /><div>http://maps.google.com/maps?q=67+Hunt+St,Agawam,MA,
 01001</div><br /><div>Forecast: http://www.weather.com/weather/monthly/010
 01</div><br /><br /><div><p><em>Presented by the Employers Association of 
 the Northeast</em></p> <p>Cost: $280</p> <p>&nbsp\;</p> <p>This engaging p
 rogram helps participants gain insights into communication styles, values,
  and motivators that drive Baby Boomers, Gen X, Millennials, and Gen Z. Wh
 en organizations embrace generational diversity, we can boost innovation, 
 retention, and performance. Join us to learn how your workforce can bridge
  gaps and thrive together &ndash\; because when generations unite, greatne
 ss happens.</p> <p>&nbsp\;</p> <p style="text-align: center\;"><a class="b
 tn btn-primary" href="https://www.eane.org/event/leveraging-the-power-of-a
 -multi-generational-workforce-virtual-2/" target="_blank" rel="noopener">R
 egister Here</a></p></div><div>--- This iCal file does *NOT* confirm regis
 tration.Event details subject to change. ---</div><div>--- Tendenci&reg\; 
 Software by <a href="https://www.tendenci.com">tendenci.com</a> - The Open
  Source AMS for Associations ---</div>
BEGIN:VALARM
TRIGGER:-PT30M
ACTION:DISPLAY
DESCRIPTION:Reminder
END:VALARM
END:VEVENT
END:VCALENDAR
