BEGIN:VCALENDAR
VERSION:2.0
METHOD:PUBLISH
PRODID:-//Tendenci - The Open Source AMS for Associations//Tendenci Codeba
 se MIMEDIR//EN
BEGIN:VEVENT
DESCRIPTION:--- This iCal file does *NOT* confirm registration.\nEvent det
 ails subject to change. ---\nhttps://www.rialliance.org/events/547/\n\nEve
 nt Title: 401Gives: What Comes Next?\nStart Date / Time: Apr 30, 2026 11:0
 0 AM US/Eastern\nLocation: 401Gives: What Comes Next?\nSpeaker: Caity Doug
 las\nNow that we're finished with 401Gives 2026, what comes next? Whether 
 you're looking to start for the first time or scale up, join us for a conv
 ersation about ways to make the most of Rhode Island's day of giving. \n\n
 --- This iCal file does *NOT* confirm registration.Event details subject t
 o change. ---\n\n--- By Tendenci - The Open Source AMS for Associations --
 -\n
UID:uid547@rialliance.org
SUMMARY:401Gives: What Comes Next?
DTSTART:20260430T150000Z
DTEND:20260430T160000Z
CLASS:PUBLIC
PRIORITY:5
DTSTAMP:20260421T035612Z
TRANSP:OPAQUE
SEQUENCE:0
LOCATION:401Gives: What Comes Next?
X-ALT-DESC;FMTTYPE=text/html:<div>--- This iCal file does *NOT* confirm re
 gistration.Event details subject to change. ---</div><h1>Event Title: 401G
 ives: What Comes Next?</h1><div>https://www.rialliance.org/events/547/</di
 v><br /><div>When: Apr 30, 2026 11:00 AM US/Eastern</div><div>Speaker: Cai
 ty Douglas</div><br /><div><p>Now that we're finished with 401Gives 2026, 
 what comes next? Whether you're looking to start for the first time or sca
 le up, join us for a conversation about ways to make the most of Rhode Isl
 and's day of giving.&nbsp\;</p></div><div>--- This iCal file does *NOT* co
 nfirm registration.Event details subject to change. ---</div><div>--- Tend
 enci&reg\; Software by <a href="https://www.tendenci.com">tendenci.com</a>
  - The Open Source AMS for Associations ---</div>
BEGIN:VALARM
TRIGGER:-PT30M
ACTION:DISPLAY
DESCRIPTION:Reminder
END:VALARM
END:VEVENT
END:VCALENDAR
