BEGIN:VCALENDAR
VERSION:2.0
METHOD:PUBLISH
PRODID:-//Tendenci - The Open Source AMS for Associations//Tendenci Codeba
 se MIMEDIR//EN
BEGIN:VEVENT
DESCRIPTION:--- This iCal file does *NOT* confirm registration.\nEvent det
 ails subject to change. ---\nhttps://www.rialliance.org/events/548/\n\nEve
 nt Title: Give4GoodRI\nStart Date / Time: May 07, 2026 11:00 AM US/Eastern
 \nLocation: Give4GoodRI\nSpeaker: Caity Douglas\nJoin the Alliance's progr
 am manager Caity Douglas for a dive into our year-round giving platform, G
 ive4GoodRI. Using the same technology as 401Gives, you'll learn how to ste
 ward giving all through the year. \n\n--- This iCal file does *NOT* confir
 m registration.Event details subject to change. ---\n\n--- By Tendenci - T
 he Open Source AMS for Associations ---\n
UID:uid548@rialliance.org
SUMMARY:Give4GoodRI
DTSTART:20260507T150000Z
DTEND:20260507T160000Z
CLASS:PUBLIC
PRIORITY:5
DTSTAMP:20260421T040108Z
TRANSP:OPAQUE
SEQUENCE:0
LOCATION:Give4GoodRI
X-ALT-DESC;FMTTYPE=text/html:<div>--- This iCal file does *NOT* confirm re
 gistration.Event details subject to change. ---</div><h1>Event Title: Give
 4GoodRI</h1><div>https://www.rialliance.org/events/548/</div><br /><div>Wh
 en: May 07, 2026 11:00 AM US/Eastern</div><div>Speaker: Caity Douglas</div
 ><br /><div><p>Join the Alliance's program manager Caity Douglas for a div
 e into our year-round giving platform, Give4GoodRI. Using the same technol
 ogy as 401Gives, you'll learn how to steward giving all through the year.&
 nbsp\;</p></div><div>--- This iCal file does *NOT* confirm registration.Ev
 ent details subject to change. ---</div><div>--- Tendenci&reg\; Software b
 y <a href="https://www.tendenci.com">tendenci.com</a> - The Open Source AM
 S for Associations ---</div>
BEGIN:VALARM
TRIGGER:-PT30M
ACTION:DISPLAY
DESCRIPTION:Reminder
END:VALARM
END:VEVENT
END:VCALENDAR
