BEGIN:VCALENDAR
VERSION:2.0
METHOD:PUBLISH
PRODID:-//Tendenci - The Open Source AMS for Associations//Tendenci Codeba
 se MIMEDIR//EN
BEGIN:VEVENT
DESCRIPTION:--- This iCal file does *NOT* confirm registration.\nEvent det
 ails subject to change. ---\nhttps://www.rialliance.org/events/549/\n\nEve
 nt Title: HR Compliance 101: What RI Employers Need to Know\nStart Date / 
 Time: Jun 26, 2026 09:00 AM US/Eastern\nLocation: Zoom\nSpeaker: Mark Adam
 s\nJoin Mark Adams, EANE&rsquo\;s Director of Compliance, for this two-hou
 r session designed for members of the Alliance for Nonprofit Impact. We&rs
 quo\;ll walk through the key HR compliance areas Rhode Island nonprofits s
 hould be paying attention to, helping you stay current with changing state
  requirements and reduce risk. You&rsquo\;ll leave with a clearer understa
 nding of your responsibilities and practical insight to spot any gaps in y
 our current practices.\n\n--- This iCal file does *NOT* confirm registrati
 on.Event details subject to change. ---\n\n--- By Tendenci - The Open Sour
 ce AMS for Associations ---\n
UID:uid549@rialliance.org
SUMMARY:HR Compliance 101: What RI Employers Need to Know
DTSTART:20260626T130000Z
DTEND:20260626T150000Z
CLASS:PUBLIC
PRIORITY:5
DTSTAMP:20260424T111615Z
TRANSP:OPAQUE
SEQUENCE:0
LOCATION:Zoom
X-ALT-DESC;FMTTYPE=text/html:<div>--- This iCal file does *NOT* confirm re
 gistration.Event details subject to change. ---</div><h1>Event Title: HR C
 ompliance 101: What RI Employers Need to Know</h1><div>https://www.riallia
 nce.org/events/549/</div><br /><div>When: Jun 26, 2026 09:00 AM US/Eastern
 </div><div>Speaker: Mark Adams</div><br /><div><p>Join Mark Adams, EANE&rs
 quo\;s Director of Compliance, for this two-hour session designed for memb
 ers of the Alliance for Nonprofit Impact. We&rsquo\;ll walk through the ke
 y HR compliance areas Rhode Island nonprofits should be paying attention t
 o, helping you stay current with changing state requirements and reduce ri
 sk. You&rsquo\;ll leave with a clearer understanding of your responsibilit
 ies and practical insight to spot any gaps in your current practices.</p><
 /div><div>--- This iCal file does *NOT* confirm registration.Event details
  subject to change. ---</div><div>--- Tendenci&reg\; Software by <a href="
 https://www.tendenci.com">tendenci.com</a> - The Open Source AMS for Assoc
 iations ---</div>
BEGIN:VALARM
TRIGGER:-PT30M
ACTION:DISPLAY
DESCRIPTION:Reminder
END:VALARM
END:VEVENT
END:VCALENDAR
