BEGIN:VCALENDAR
VERSION:2.0
METHOD:PUBLISH
PRODID:-//Tendenci - The Open Source AMS for Associations//Tendenci Codeba
 se MIMEDIR//EN
BEGIN:VEVENT
DESCRIPTION:--- This iCal file does *NOT* confirm registration.\nEvent det
 ails subject to change. ---\nhttps://www.rialliance.org/events/550/\n\nEve
 nt Title: ComNet New England Marketing Professionals Meet Up\nStart Date /
  Time: Aug 13, 2026 17:00 PM US/Eastern\nLocation: XO Bar\nGoogle\nhttp://
 maps.google.com/maps?q=125+N+Main+St,Providence,Rhode Island,02903\n\nFore
 cast\nhttp://www.weather.com/weather/monthly/02903\n\nDetails TBD\n\n--- T
 his iCal file does *NOT* confirm registration.Event details subject to cha
 nge. ---\n\n--- By Tendenci - The Open Source AMS for Associations ---\n
UID:uid550@rialliance.org
SUMMARY:ComNet New England Marketing Professionals Meet Up
DTSTART:20260813T210000Z
DTEND:20260814T000000Z
CLASS:PUBLIC
PRIORITY:5
DTSTAMP:20260424T111359Z
TRANSP:OPAQUE
SEQUENCE:0
LOCATION:XO Bar
X-ALT-DESC;FMTTYPE=text/html:<div>--- This iCal file does *NOT* confirm re
 gistration.Event details subject to change. ---</div><h1>Event Title: ComN
 et New England Marketing Professionals Meet Up</h1><div>https://www.rialli
 ance.org/events/550/</div><br /><div>When: Aug 13, 2026 17:00 PM US/Easter
 n</div><br />XO Bar<br />125 N Main St<br />Providence, Rhode Island 02903
 <br /><div>http://maps.google.com/maps?q=125+N+Main+St,Providence,Rhode Is
 land,02903</div><br /><div>Forecast: http://www.weather.com/weather/monthl
 y/02903</div><br /><br /><div><p>Details TBD</p></div><div>--- This iCal f
 ile does *NOT* confirm registration.Event details subject to change. ---</
 div><div>--- Tendenci&reg\; Software by <a href="https://www.tendenci.com"
 >tendenci.com</a> - The Open Source AMS for Associations ---</div>
BEGIN:VALARM
TRIGGER:-PT30M
ACTION:DISPLAY
DESCRIPTION:Reminder
END:VALARM
END:VEVENT
END:VCALENDAR
