BEGIN:VCALENDAR
VERSION:2.0
METHOD:PUBLISH
PRODID:-//Tendenci - The Open Source AMS for Associations//Tendenci Codeba
 se MIMEDIR//EN
BEGIN:VEVENT
DESCRIPTION:--- This iCal file does *NOT* confirm registration.\nEvent det
 ails subject to change. ---\nhttps://www.rialliance.org/events/551/\n\nEve
 nt Title: We Care - Wellness Expo\nStart Date / Time: Jun 06, 2026 12:00 P
 M US/Eastern\nLocation: Farm Fresh\nGoogle\nhttp://maps.google.com/maps?q=
 50+Sims+Ave,Providence,RI,02909\n\nForecast\nhttp://www.weather.com/weathe
 r/monthly/02909\n\nPresented by Bliss Gives\n \nThe We Care Wellness Expo 
 is more than an event &mdash\; it&rsquo\;s a celebration of health, balanc
 e, and community. Learn from experts, engage in hands-on wellness activiti
 es, connect with local leaders, and enjoy a vibrant atmosphere of music, n
 etworking, and fun. Kids attend FREE and enjoy their own activities!\n \nW
 hether you're looking for natural remedies, fitness tips, or mental health
  resources, this expo has something for everyone. It's family friendly, br
 ing the grandparents and the kids! Join us to explore current self-care op
 tions and network. We can't wait to see you there!\n \nRegister Here\n\n--
 - This iCal file does *NOT* confirm registration.Event details subject to 
 change. ---\n\n--- By Tendenci - The Open Source AMS for Associations ---\
 n
UID:uid551@rialliance.org
SUMMARY:We Care - Wellness Expo
DTSTART:20260606T160000Z
DTEND:20260606T220000Z
CLASS:PUBLIC
PRIORITY:5
DTSTAMP:20260425T110607Z
TRANSP:OPAQUE
SEQUENCE:0
LOCATION:Farm Fresh
X-ALT-DESC;FMTTYPE=text/html:<div>--- This iCal file does *NOT* confirm re
 gistration.Event details subject to change. ---</div><h1>Event Title: We C
 are - Wellness Expo</h1><div>https://www.rialliance.org/events/551/</div><
 br /><div>When: Jun 06, 2026 12:00 PM US/Eastern</div><br />Farm Fresh<br 
 />50 Sims Ave<br />Providence, RI 02909<br /><div>http://maps.google.com/m
 aps?q=50+Sims+Ave,Providence,RI,02909</div><br /><div>Forecast: http://www
 .weather.com/weather/monthly/02909</div><br /><br /><div><p><em>Presented 
 by Bliss Gives</em></p> <p>&nbsp\;</p> <p>The We Care Wellness Expo is mor
 e than an event &mdash\; it&rsquo\;s a celebration of health, balance, and
  community. Learn from experts, engage in hands-on wellness activities, co
 nnect with local leaders, and enjoy a vibrant atmosphere of music, network
 ing, and fun. Kids attend FREE and enjoy their own activities!</p> <p>&nbs
 p\;</p> <p>Whether you're looking for natural remedies, fitness tips, or m
 ental health resources, this expo has something for everyone. It's family 
 friendly, bring the grandparents and the kids! Join us to explore current 
 self-care options and network. We can't wait to see you there!</p> <p>&nbs
 p\;</p> <p style="text-align: center\;"><a class="btn btn-primary" href="h
 ttps://www.eventbrite.com/e/we-care-wellness-expo-tickets-1409860533809" t
 arget="_blank" rel="noopener">Register Here</a></p></div><div>--- This iCa
 l file does *NOT* confirm registration.Event details subject to change. --
 -</div><div>--- Tendenci&reg\; Software by <a href="https://www.tendenci.c
 om">tendenci.com</a> - The Open Source AMS for Associations ---</div>
BEGIN:VALARM
TRIGGER:-PT30M
ACTION:DISPLAY
DESCRIPTION:Reminder
END:VALARM
END:VEVENT
END:VCALENDAR
