BEGIN:VCALENDAR
VERSION:2.0
METHOD:PUBLISH
PRODID:-//Tendenci - The Open Source AMS for Associations//Tendenci Codeba
 se MIMEDIR//EN
BEGIN:VEVENT
DESCRIPTION:--- This iCal file does *NOT* confirm registration.\nEvent det
 ails subject to change. ---\nhttps://www.rialliance.org/events/552/\n\nEve
 nt Title: 2026 LRI Golf Classic\nStart Date / Time: May 24, 2026 11:00 AM 
 US/Eastern\nLocation: Wannamoisett Country Club\nGoogle\nhttp://maps.googl
 e.com/maps?q=96+Hoyt+Ave,Rumford,RI,02916\n\nForecast\nhttp://www.weather.
 com/weather/monthly/02916\n\nPresented by Leadership Rhode Island\n \nNow 
 in its third year, the Golf Classic has quickly become a signature LRI tra
 dition, bringing together leaders from across Rhode Island for a day of co
 nnection, community, and impact.\nMore than a tournament, this event suppo
 rts LRI&rsquo\;s mission to invest in people and strengthen leadership acr
 oss all sectors. Every swing, conversation, and partnership helps move Rho
 de Island forward.\n \nSchedule of events:\n11:00am - Registration begins\
 n1:15pm - Shotgun start\n5:45pm - Awards Reception Begins\n \nRegister Her
 e\n\n--- This iCal file does *NOT* confirm registration.Event details subj
 ect to change. ---\n\n--- By Tendenci - The Open Source AMS for Associatio
 ns ---\n
UID:uid552@rialliance.org
SUMMARY:2026 LRI Golf Classic
DTSTART:20260524T150000Z
DTEND:20260524T223000Z
CLASS:PUBLIC
PRIORITY:5
DTSTAMP:20260425T110904Z
TRANSP:OPAQUE
SEQUENCE:0
LOCATION:Wannamoisett Country Club
X-ALT-DESC;FMTTYPE=text/html:<div>--- This iCal file does *NOT* confirm re
 gistration.Event details subject to change. ---</div><h1>Event Title: 2026
  LRI Golf Classic</h1><div>https://www.rialliance.org/events/552/</div><br
  /><div>When: May 24, 2026 11:00 AM US/Eastern</div><br />Wannamoisett Cou
 ntry Club<br />96 Hoyt Ave<br />Rumford, RI 02916<br /><div>http://maps.go
 ogle.com/maps?q=96+Hoyt+Ave,Rumford,RI,02916</div><br /><div>Forecast: htt
 p://www.weather.com/weather/monthly/02916</div><br /><br /><div><p><em>Pre
 sented by Leadership Rhode Island</em></p> <p>&nbsp\;</p> <p>Now in its th
 ird year, the Golf Classic has quickly become a signature LRI tradition, b
 ringing together leaders from across Rhode Island for a day of connection,
  community, and impact.</p> <p><br>More than a tournament, this event supp
 orts LRI&rsquo\;s mission to invest in people and strengthen leadership ac
 ross all sectors. Every swing, conversation, and partnership helps move Rh
 ode Island forward.</p> <p>&nbsp\;</p> <p><u><strong>Schedule of events:</
 strong></u></p> <p>11:00am - Registration begins</p> <p>1:15pm - Shotgun s
 tart</p> <p>5:45pm - Awards Reception Begins</p> <p>&nbsp\;</p> <p style="
 text-align: center\;"><a class="btn btn-primary" href="https://support.lea
 dershipri.org/event/2026-lri-golf-classic/e742794" target="_blank" rel="no
 opener">Register Here</a></p></div><div>--- This iCal file does *NOT* conf
 irm registration.Event details subject to change. ---</div><div>--- Tenden
 ci&reg\; Software by <a href="https://www.tendenci.com">tendenci.com</a> -
  The Open Source AMS for Associations ---</div>
BEGIN:VALARM
TRIGGER:-PT30M
ACTION:DISPLAY
DESCRIPTION:Reminder
END:VALARM
END:VEVENT
END:VCALENDAR
