BEGIN:VCALENDAR
VERSION:2.0
METHOD:PUBLISH
PRODID:-//Tendenci - The Open Source AMS for Associations//Tendenci Codeba
 se MIMEDIR//EN
BEGIN:VEVENT
DESCRIPTION:--- This iCal file does *NOT* confirm registration.\nEvent det
 ails subject to change. ---\nhttps://www.rialliance.org/events/553/\n\nEve
 nt Title: AFP-RI's Conference + Annual Meeting\nStart Date / Time: May 07,
  2026 08:00 AM US/Eastern\nLocation: St. Mary Academy - Bay View\nGoogle\n
 http://maps.google.com/maps?q=3070+Pawtucket+Avenue,East Providence,RI,029
 15\n\nForecast\nhttp://www.weather.com/weather/monthly/02915\n\nPresented 
 by AFP-RI\n \nThe AFP-RI Annual Meeting and Half-Day Conference returns!\n
 The Association of Fundraising Professionals Rhode Island chapter (AFP-RI)
  is pleased to present a half-day nonprofit fundraising conference on Thur
 sday, May 7, 2026. The event will be held at the St. Mary&rsquo\;s Academy
  &ndash\; Bay View. Continental breakfast and lunch will be served. The da
 y will begin at 8 a.m. and conclude by 2 p.m.\n \nFull participation in th
 e AFP-RI Half-Day Conference is applicable for 3.0 points in Category 1.B 
 -Education of the CFRE International application for initial certification
  and/or recertification.\n \nRegister Here\n\n--- This iCal file does *NOT
 * confirm registration.Event details subject to change. ---\n\n--- By Tend
 enci - The Open Source AMS for Associations ---\n
UID:uid553@rialliance.org
SUMMARY:AFP-RI's Conference + Annual Meeting
DTSTART:20260507T120000Z
DTEND:20260507T180000Z
CLASS:PUBLIC
PRIORITY:5
DTSTAMP:20260425T111518Z
TRANSP:OPAQUE
SEQUENCE:0
LOCATION:St. Mary Academy - Bay View
X-ALT-DESC;FMTTYPE=text/html:<div>--- This iCal file does *NOT* confirm re
 gistration.Event details subject to change. ---</div><h1>Event Title: AFP-
 RI's Conference + Annual Meeting</h1><div>https://www.rialliance.org/event
 s/553/</div><br /><div>When: May 07, 2026 08:00 AM US/Eastern</div><br />S
 t. Mary Academy - Bay View<br />3070 Pawtucket Avenue<br />East Providence
 , RI 02915<br /><div>http://maps.google.com/maps?q=3070+Pawtucket+Avenue,E
 ast Providence,RI,02915</div><br /><div>Forecast: http://www.weather.com/w
 eather/monthly/02915</div><br /><br /><div><p><em>Presented by AFP-RI</em>
 </p> <p>&nbsp\;</p> <p>The AFP-RI Annual Meeting and Half-Day Conference r
 eturns!</p> <p>The Association of Fundraising Professionals Rhode Island c
 hapter (AFP-RI) is pleased to present a half-day nonprofit fundraising con
 ference on Thursday, May 7, 2026. The event will be held at the St. Mary&r
 squo\;s Academy &ndash\; Bay View. Continental breakfast and lunch will be
  served. The day will begin at 8 a.m. and conclude by 2 p.m.</p> <p>&nbsp\
 ;</p> <p><em>Full participation in the AFP-RI Half-Day Conference is appli
 cable for 3.0 points in Category 1.B -Education of the CFRE International 
 application for initial certification and/or recertification.</em></p> <p>
 &nbsp\;</p> <p style="text-align: center\;"><a class="btn btn-primary" hre
 f="https://www.eventbrite.com/e/afp-ris-conference-annual-meeting-tickets-
 1985922979090?aff=oddtdtcreator" target="_blank" rel="noopener">Register H
 ere</a></p></div><div>--- This iCal file does *NOT* confirm registration.E
 vent details subject to change. ---</div><div>--- Tendenci&reg\; Software 
 by <a href="https://www.tendenci.com">tendenci.com</a> - The Open Source A
 MS for Associations ---</div>
BEGIN:VALARM
TRIGGER:-PT30M
ACTION:DISPLAY
DESCRIPTION:Reminder
END:VALARM
END:VEVENT
END:VCALENDAR
