BEGIN:VCALENDAR
VERSION:2.0
METHOD:PUBLISH
PRODID:-//Tendenci - The Open Source AMS for Associations//Tendenci Codeba
 se MIMEDIR//EN
BEGIN:VEVENT
DESCRIPTION:--- This iCal file does *NOT* confirm registration.\nEvent det
 ails subject to change. ---\nhttps://www.rialliance.org/events/554/\n\nEve
 nt Title: The Big Give: 100 Women June 2026 Gathering!\nStart Date / Time:
  Jun 04, 2026 17:30 PM US/Eastern\nLocation: Track 15\nGoogle\nhttp://maps
 .google.com/maps?q=1+Union+Station,Providence,RI,02903\n\nForecast\nhttp:/
 /www.weather.com/weather/monthly/02903\n\nPresented by 100 Women Who Care 
 in Rhode Island\n \nOur community, 100+ Women Who Care in Rhode Island, pa
 ssionately supports local nonprofit organizations across the state. Throug
 h our democratic collective giving process, we amplify the impact of these
  organizations. Our mission is to inform and involve our membership, maxim
 izing the leadership of women in philanthropy for positive change in Rhode
  Island. Feel free to attend the meeting without any commitment to become 
 a member &ndash\; it's an open invitation to share in the spirit of giving
  and community building.\n \nEvening Event Schedule\n5:30-6:15 pm Socializ
 ing\n6:15-7:00 pm Meeting\nSocializing!\nLast quarter's recipient will joi
 n us to let us know how our donation is enabling them to do even more.\n \
 nRegister Here\n \n \n\n--- This iCal file does *NOT* confirm registration
 .Event details subject to change. ---\n\n--- By Tendenci - The Open Source
  AMS for Associations ---\n
UID:uid554@rialliance.org
SUMMARY:The Big Give: 100 Women June 2026 Gathering!
DTSTART:20260604T213000Z
DTEND:20260604T233000Z
CLASS:PUBLIC
PRIORITY:5
DTSTAMP:20260425T105902Z
TRANSP:OPAQUE
SEQUENCE:0
LOCATION:Track 15
X-ALT-DESC;FMTTYPE=text/html:<div>--- This iCal file does *NOT* confirm re
 gistration.Event details subject to change. ---</div><h1>Event Title: The 
 Big Give: 100 Women June 2026 Gathering!</h1><div>https://www.rialliance.o
 rg/events/554/</div><br /><div>When: Jun 04, 2026 17:30 PM US/Eastern</div
 ><br />Track 15<br />1 Union Station<br />Providence, RI 02903<br /><div>h
 ttp://maps.google.com/maps?q=1+Union+Station,Providence,RI,02903</div><br 
 /><div>Forecast: http://www.weather.com/weather/monthly/02903</div><br /><
 br /><div><p><em>Presented by 100 Women Who Care in Rhode Island</em></p> 
 <p>&nbsp\;</p> <p>Our community, 100+ Women Who Care in Rhode Island, pass
 ionately supports local nonprofit organizations across the state. Through 
 our democratic collective giving process, we amplify the impact of these o
 rganizations. Our mission is to inform and involve our membership, maximiz
 ing the leadership of women in philanthropy for positive change in Rhode I
 sland. Feel free to attend the meeting without any commitment to become a 
 member &ndash\; it's an open invitation to share in the spirit of giving a
 nd community building.</p> <p>&nbsp\;</p> <p><strong>Evening Event Schedul
 e</strong></p> <p>5:30-6:15 pm Socializing</p> <p>6:15-7:00 pm Meeting</p>
  <p>Socializing!</p> <p><strong>Last quarter's recipient&nbsp\;</strong>wi
 ll join us to let us know how our donation is enabling them to do even mor
 e.</p> <p>&nbsp\;</p> <p style="text-align: center\;"><a class="btn btn-pr
 imary" href="https://www.eventbrite.com/e/the-big-give-100-women-june-2026
 -gathering-tickets-1977032870536?aff=erellivmlt" target="_blank" rel="noop
 ener">Register Here</a></p> <p>&nbsp\;</p> <p>&nbsp\;</p></div><div>--- Th
 is iCal file does *NOT* confirm registration.Event details subject to chan
 ge. ---</div><div>--- Tendenci&reg\; Software by <a href="https://www.tend
 enci.com">tendenci.com</a> - The Open Source AMS for Associations ---</div
 >
BEGIN:VALARM
TRIGGER:-PT30M
ACTION:DISPLAY
DESCRIPTION:Reminder
END:VALARM
END:VEVENT
END:VCALENDAR
