BEGIN:VCALENDAR
VERSION:2.0
METHOD:PUBLISH
PRODID:-//Tendenci - The Open Source AMS for Associations//Tendenci Codeba
 se MIMEDIR//EN
BEGIN:VEVENT
DESCRIPTION:--- This iCal file does *NOT* confirm registration.\nEvent det
 ails subject to change. ---\nhttps://www.rialliance.org/events/555/\n\nEve
 nt Title: The Big Give:100 Women September 2026 Gathering!\nStart Date / T
 ime: Sep 10, 2026 17:30 PM US/Eastern\nLocation: TBD\nPresented by100 Wome
 n Who Care in RI\n \nJoin us for our upcoming quarterly meeting! We invite
  everyone to come together and harness the power of collective giving. Bri
 ng a friend along for an enriching experience!\n \nOur community, 100+ Wom
 en Who Care in Rhode Island, passionately supports local nonprofit organiz
 ations across the state. Through our democratic collective giving process,
  we amplify the impact of these organizations. Our mission is to inform an
 d involve our membership, maximizing the leadership of women in philanthro
 py for positive change in Rhode Island. Feel free to attend the meeting wi
 thout any commitment to become a member &ndash\; it's an open invitation t
 o share in the spirit of giving and community building.\n \nEvening Event 
 Schedule\n5:30-6:15 pm Socializing\n6:15-7:00 pm Meeting\n \nRegister Here
 \n \n\n--- This iCal file does *NOT* confirm registration.Event details su
 bject to change. ---\n\n--- By Tendenci - The Open Source AMS for Associat
 ions ---\n
UID:uid555@rialliance.org
SUMMARY:The Big Give:100 Women September 2026 Gathering!
DTSTART:20260910T213000Z
DTEND:20260910T233000Z
CLASS:PUBLIC
PRIORITY:5
DTSTAMP:20260425T110242Z
TRANSP:OPAQUE
SEQUENCE:0
LOCATION:TBD
X-ALT-DESC;FMTTYPE=text/html:<div>--- This iCal file does *NOT* confirm re
 gistration.Event details subject to change. ---</div><h1>Event Title: The 
 Big Give:100 Women September 2026 Gathering!</h1><div>https://www.riallian
 ce.org/events/555/</div><br /><div>When: Sep 10, 2026 17:30 PM US/Eastern<
 /div><br /><div><p><em>Presented by100 Women Who Care in RI</em></p> <p>&n
 bsp\;</p> <p>Join us for our upcoming quarterly meeting! We invite everyon
 e to come together and harness the power of collective giving. Bring a fri
 end along for an enriching experience!</p> <p>&nbsp\;</p> <p>Our community
 , 100+ Women Who Care in Rhode Island, passionately supports local nonprof
 it organizations across the state. Through our democratic collective givin
 g process, we amplify the impact of these organizations. Our mission is to
  inform and involve our membership, maximizing the leadership of women in 
 philanthropy for positive change in Rhode Island. Feel free to attend the 
 meeting without any commitment to become a member &ndash\; it's an open in
 vitation to share in the spirit of giving and community building.</p> <p>&
 nbsp\;</p> <p><strong>Evening Event Schedule</strong></p> <p>5:30-6:15 pm 
 Socializing</p> <p>6:15-7:00 pm Meeting</p> <p>&nbsp\;</p> <p style="text-
 align: center\;"><a class="btn btn-primary" href="https://www.eventbrite.c
 om/e/the-big-give100-women-september-2026-gathering-tickets-1977033123292?
 aff=erellivmlt" target="_blank" rel="noopener">Register Here</a></p> <p>&n
 bsp\;</p></div><div>--- This iCal file does *NOT* confirm registration.Eve
 nt details subject to change. ---</div><div>--- Tendenci&reg\; Software by
  <a href="https://www.tendenci.com">tendenci.com</a> - The Open Source AMS
  for Associations ---</div>
BEGIN:VALARM
TRIGGER:-PT30M
ACTION:DISPLAY
DESCRIPTION:Reminder
END:VALARM
END:VEVENT
END:VCALENDAR
