BEGIN:VCALENDAR
VERSION:2.0
METHOD:PUBLISH
PRODID:-//Tendenci - The Open Source AMS for Associations//Tendenci Codeba
 se MIMEDIR//EN
BEGIN:VEVENT
DESCRIPTION:--- This iCal file does *NOT* confirm registration.\nEvent det
 ails subject to change. ---\nhttps://www.rialliance.org/events/556/\n\nEve
 nt Title: Voices in Action: Strengthening Democracy Through Nonpartisan Vo
 ter Engagement\nStart Date / Time: May 05, 2026 14:00 PM US/Eastern\nLocat
 ion: \nSpeaker: Gwen Stembridge, Dr. Akilah Watkins, Vanna Cure, Brian Mil
 ler, Natalie Roetzel Ossenfort, Megan Brown\nPresented by Voices in Action
 \n \nJoin Independent Sector, Nonprofit VOTE, and Alliance for Justice&rsq
 uo\;s Bolder Advocacy program for the launch of Voices in Action, a nation
 al nonpartisan initiative designed to help nonprofit leaders turn everyday
  community impact into meaningful civic engagement. In this kickoff webina
 r, you will learn practical strategies your organization can use, regardle
 ss of size or capacity, to ensure communities have access to trusted voter
  information while helping candidates better understand the essential role
  nonprofits play in society.\n \nThis session will leave you informed, ins
 pired, and ready to act. We will share resources that make civic engagemen
 t simple and accessible, offering a streamlined and low cost approach that
  fits into your existing work. You will also get a preview of tools, resou
 rces, and action steps to support your efforts throughout the midterm seas
 on. If you're looking looking to bring civic engagement into your mission 
 in a way that's impactful and aligned with your work, join us!\n \nRegiste
 r Here\n\n--- This iCal file does *NOT* confirm registration.Event details
  subject to change. ---\n\n--- By Tendenci - The Open Source AMS for Assoc
 iations ---\n
UID:uid556@rialliance.org
SUMMARY:Voices in Action: Strengthening Democracy Through Nonpartisan Voter Engagement
DTSTART:20260505T180000Z
DTEND:20260505T193000Z
CLASS:PUBLIC
PRIORITY:5
DTSTAMP:20260425T110044Z
TRANSP:OPAQUE
SEQUENCE:0
X-ALT-DESC;FMTTYPE=text/html:<div>--- This iCal file does *NOT* confirm re
 gistration.Event details subject to change. ---</div><h1>Event Title: Voic
 es in Action: Strengthening Democracy Through Nonpartisan Voter Engagement
 </h1><div>https://www.rialliance.org/events/556/</div><br /><div>When: May
  05, 2026 14:00 PM US/Eastern</div><div>Speaker: Gwen Stembridge, Dr. Akil
 ah Watkins, Vanna Cure, Brian Miller, Natalie Roetzel Ossenfort, Megan Bro
 wn</div><br /><div><p><em>Presented by Voices in Action</em></p> <p>&nbsp\
 ;</p> <p>Join Independent Sector, Nonprofit VOTE, and Alliance for Justice
 &rsquo\;s Bolder Advocacy program for the launch of Voices in Action, a na
 tional nonpartisan initiative designed to help nonprofit leaders turn ever
 yday community impact into meaningful civic engagement. In this kickoff we
 binar, you will learn practical strategies your organization can use, rega
 rdless of size or capacity, to ensure communities have access to trusted v
 oter information while helping candidates better understand the essential 
 role nonprofits play in society.</p> <p>&nbsp\;</p> <p>This session will l
 eave you informed, inspired, and ready to act. We will share resources tha
 t make civic engagement simple and accessible, offering a streamlined and 
 low cost approach that fits into your existing work. You will also get a p
 review of tools, resources, and action steps to support your efforts throu
 ghout the midterm season. If you're looking looking to bring civic engagem
 ent into your mission in a way that's impactful and aligned with your work
 , join us!</p> <p>&nbsp\;</p> <p style="text-align: center\;"><a class="bt
 n btn-primary" href="https://independentsector-org.zoom.us/webinar/registe
 r/WN_ub8eOICzTqCJ4P9CPP-CPQ#/registration" target="_blank" rel="noopener">
 Register Here</a></p></div><div>--- This iCal file does *NOT* confirm regi
 stration.Event details subject to change. ---</div><div>--- Tendenci&reg\;
  Software by <a href="https://www.tendenci.com">tendenci.com</a> - The Ope
 n Source AMS for Associations ---</div>
BEGIN:VALARM
TRIGGER:-PT30M
ACTION:DISPLAY
DESCRIPTION:Reminder
END:VALARM
END:VEVENT
END:VCALENDAR
